BEGIN:VCALENDAR
VERSION:2.0
PRODID:-//Centro Mediterráneo - ECPv5.16.1.1//NONSGML v1.0//EN
CALSCALE:GREGORIAN
METHOD:PUBLISH
X-WR-CALNAME:Centro Mediterráneo
X-ORIGINAL-URL:https://cemed.ugr.es
X-WR-CALDESC:Eventos para Centro Mediterráneo
BEGIN:VTIMEZONE
TZID:Europe/Madrid
BEGIN:DAYLIGHT
TZOFFSETFROM:+0100
TZOFFSETTO:+0200
TZNAME:CEST
DTSTART:20220327T010000
END:DAYLIGHT
BEGIN:STANDARD
TZOFFSETFROM:+0200
TZOFFSETTO:+0100
TZNAME:CET
DTSTART:20221030T010000
END:STANDARD
BEGIN:DAYLIGHT
TZOFFSETFROM:+0100
TZOFFSETTO:+0200
TZNAME:CEST
DTSTART:20230326T010000
END:DAYLIGHT
BEGIN:STANDARD
TZOFFSETFROM:+0200
TZOFFSETTO:+0100
TZNAME:CET
DTSTART:20231029T010000
END:STANDARD
END:VTIMEZONE
BEGIN:VEVENT
DTSTART;VALUE=DATE:20221116
DTEND;VALUE=DATE:20230208
DTSTAMP:20260423T212722
CREATED:20221111T121426Z
LAST-MODIFIED:20230208T125623Z
UID:33287-1668556800-1675814399@cemed.ugr.es
SUMMARY:¡A LA CALLE! Proyecto social. Comisariado de exposición de obra de arte y su comercialización
DESCRIPTION:Lugar de celebración\nSalón de Actos de la E.T.S de Ingeniería Informática y Telecomunicación \nDirección\nElizaberta López Pérez\nVicedecana de Ordenación Académica y Planificación Docente de la Facultad de Bellas Artes\nAntonio Martínez Villa\nProfesor del Departamento de Escultura \nCoorganiza\nFacultad de Bellas Artes y Dirección de Proyección Social\, Patrocinio y  Mecenazgo \nCoordinación\nFrancisco José Sánchez Montalbán\nDecano de la Facultad de Bellas Artes \nSecretaría\nAntonio Marín Ruíz\nDirector de Proyección Social\, Patrocinio y Mecenazgo. Dirección de Innovación y Transferencia. Universidad de Granada. \nColabora\nCátedra de Innovación y Proyección Social y Residencia de Estudiantes María Moliner \nIntroducción \nEl proyecto A LA CALLE! surge en el curso 2015-2016 con el propósito de visibilizar las producciones que los/as estudiantes realizan poniendo fin a sus estudios de grado. Al mismo tiempo\, A LA CALLE! se suma a hacer patente el patrimonio cultural granadino\, que se actualiza cada año con las últimas creaciones de los nuevos profesionales que salen de nuestra facultad\, revirtiéndose hacia la propia ciudad donde surgen\, mostrando que Granada es una ciudad cultural viva\, que no sólo se nutre del pasado\, sino que tiene un presente artístico activo y potente\, protagonizado por jóvenes con una preparación excepcional\, dispuestos/as a ofrecer el resultado de su trabajo y hacerlo dialogar con la historia. \nEl curso servirá de puente entre la formación y la profesionalización\, pues preparará al estudiantado a salir de los límites del espacio académico para tener que enfrentarse a lo que será su actividad profesional. \nLa naturaleza diversificadora del curso hará posible tener una experiencia formativa no solo como artista participante en una exposición\, sino la generada por todo el engranaje necesario para poner en marcha una muestra artística: labores de comisariado\, difusión en redes\, diseño de cartelería\, relaciones institucionales\, montaje de exposiciones\, etc. El trabajo en equipo y la autonomía serán también imprescindibles\, organizando grupos de trabajo en los que algunos/as estudiantes ejercerán como coordinadores y otros como participantes. Esto creará un ambiente de trabajo que fomentará la búsqueda de soluciones de forma autónoma y consensuada. \nPerfil del alumnado \nEl curso está destinado a todos los alumnos de último curso del Grado en Bellas Artes y Grado en Conservación y Restauración de Bienes Culturales de la Universidad de Granada. \nCompetencias del alumnado \na) El alumnado sabrá/comprenderá:	 \n\nAnalizar el marco general de la profesión de comisario de exposiciones.\nConocer las características y principios básicos involucrados en la gestión de una muestra artística.\nAdquirir específicamente herramientas de comunicación en el ámbito de la gestión cultural y artística.\n\nb) El alumnado será capaz de: \n\nAnalizar en profundidad cada una de las fases de desarrollo de una exposición artística desde la planificación a la evaluación\, pasando por la ejecución y gestión.\nDesarrollar sus competencias y habilidades clave para la gestión de exposiciones.\n\nMétodo de evaluación \nMemoria de la actividad realizada durante la gestión de la exposición \nCualificación o empleos a los que da acceso \nGestor/a de exposiciones
URL:https://cemed.ugr.es/curso/22gr59/
CATEGORIES:Curso
END:VEVENT
END:VCALENDAR