BEGIN:VCALENDAR
VERSION:2.0
PRODID:-//Centro Mediterráneo - ECPv5.16.1.1//NONSGML v1.0//EN
CALSCALE:GREGORIAN
METHOD:PUBLISH
X-WR-CALNAME:Centro Mediterráneo
X-ORIGINAL-URL:https://cemed.ugr.es
X-WR-CALDESC:Eventos para Centro Mediterráneo
BEGIN:VTIMEZONE
TZID:Europe/Madrid
BEGIN:DAYLIGHT
TZOFFSETFROM:+0100
TZOFFSETTO:+0200
TZNAME:CEST
DTSTART:20220327T010000
END:DAYLIGHT
BEGIN:STANDARD
TZOFFSETFROM:+0200
TZOFFSETTO:+0100
TZNAME:CET
DTSTART:20221030T010000
END:STANDARD
END:VTIMEZONE
BEGIN:VEVENT
DTSTART;VALUE=DATE:20220519
DTEND;VALUE=DATE:20220521
DTSTAMP:20260420T130202
CREATED:20220222T111751Z
LAST-MODIFIED:20220503T074910Z
UID:29862-1652918400-1653091199@cemed.ugr.es
SUMMARY:La novela en el ámbito literario global
DESCRIPTION:Lugar celebración\nGranada\, Facultad de Filosofía y Letras\nAula García Lorca \nDirección\nAzucena G. Blanco\nUniversidad de Granada\nNeus Rotger\nUniversitat Oberta de Catalunya \nEl congreso se enmarca en los proyectos “The Novel as Global Form. Poetic Challenges and Cross-border Literary Circulation” (PID2020-118610GA-I00) y “Procesos de subjetivación: biopolítica y política de la literatura. La herencia del primer Foucault” (PID2019-107240GB-I00)\, financiados por la Agencia Estatal de Investigación; y el proyecto “Políticas de la literatura y biopolítica en la era postsecular” (Junta de Andalucía/Fondos FEDER\, A-HUM-732-UGR20) \nEste simposio se realiza con la colaboración de: los Estudios de Artes y Humanidades de la UOC\, la Facultad de Filosofía y letras de la UGR y el Máster en Estudios Literarios y Teatrales de la UGR.  \nIntroducción \nEn los últimos años\, el debate en torno a la novela global se ha convertido en un ámbito de estudio emergente. Trabajos como los de Jean Bessière\, Vittorio Coletti\, Rebecca Walkovitz\, Héctor Hoyos\, Adam Trexler\, Debjani Ganguly\, Ignacio Sánchez Prado o Treasa De Loughry dan cuenta de esta explosión crítica\, así como de los retos que supone pensar la novela en el espacio literario global.\nEn este marco\, la novela global no es concebida como un objeto unitario\, ni como un corpus determinado de obras con capacidad de circular a gran escala. Por el contrario\, la novela global se perfila más bien como una forma de representación que abre vías de interrogación sobre el mundo\, y que participa\, tal vez como ningún otro género contemporáneo\, en el juego de fuerzas del campo literario transnacional. Sin una poética reconocible\, la novela global cuenta no obstante con una serie de parámetros que permiten abordarla como problema\, y que están en el centro de la discusión que proponemos aquí: la tensión entre lo local y lo global; la representación\, a menudo en términos temáticos o miméticos\, de un mundo hiperconectado y azotado por la crisis social y ecológica; la exploración de una nueva dimensión espacio-temporal\, así como de múltiples escalas (humanas y no humanas) en el contexto del llamado Antropoceno; los giros “ético” y “afectivo” como nuevas formas de actuar y de sentir en el mundo; o la presión del mercado editorial\, con implicaciones directas en términos de legibilidad\, traducibilidad\, comercialización y consagración.\nEste simposio reúne a investigadores de diversas disciplinas y perspectivas críticas (literatura comparada\, narratología\, ecocrítica\, sociología literaria o estudios de traducción) con el propósito de ahondar en estas cuestiones y ampliar el alcance de la discusión\, fundamentalmente anglófona\, a campos literarios de habla no inglesa\, y en especial al campo literario en lengua española. \nCompetencias del alumnado \na) El alumnado sabrá/comprenderá \n\nlos principales debates en torno a la novela global.\nlas distintas perspectivas desde las que se aborda la novela global contemporánea (literatura comparada\, narratología\, ecocrítica\, sociología literaria o estudios de traducción).\n\nb) El alumnado será capaz de \n\npensar críticamente sobre la novela global contemporánea.\ninterrogar algunos de los retos de la ficción actual\, como los que tienen que ver con el valor estético\, ético y político del género.\n\nMétodo de evaluación \nEn caso de reconocimiento de créditos\, las/los asistentes deberán entregar un ensayo sobre uno de los temas abordados en las distintas intervenciones de la actividad o bien realizarán una memoria reflexiva a partir de los textos e intervenciones presentadas en las sesiones del simposio. En ambos casos\, la memoria o ensayo deberán tener una extensión total de 5 páginas (bibliografía incluida). \nIdiomas utilizados\nCastellano
URL:https://cemed.ugr.es/curso/22gr22/
CATEGORIES:Simposio Internacional
ATTACH;FMTTYPE=image/jpeg:https://cemed.ugr.es/wp-content/uploads/2022/05/eb6f35e57ae981b2af545f0974e28a17.jpg
END:VEVENT
END:VCALENDAR