BEGIN:VCALENDAR
VERSION:2.0
PRODID:-//Centro Mediterráneo - ECPv5.16.1.1//NONSGML v1.0//EN
CALSCALE:GREGORIAN
METHOD:PUBLISH
X-WR-CALNAME:Centro Mediterráneo
X-ORIGINAL-URL:https://cemed.ugr.es
X-WR-CALDESC:Eventos para Centro Mediterráneo
BEGIN:VTIMEZONE
TZID:Europe/Madrid
BEGIN:DAYLIGHT
TZOFFSETFROM:+0100
TZOFFSETTO:+0200
TZNAME:CEST
DTSTART:20220327T010000
END:DAYLIGHT
BEGIN:STANDARD
TZOFFSETFROM:+0200
TZOFFSETTO:+0100
TZNAME:CET
DTSTART:20221030T010000
END:STANDARD
END:VTIMEZONE
BEGIN:VEVENT
DTSTART;VALUE=DATE:20220222
DTEND;VALUE=DATE:20220223
DTSTAMP:20260423T003946
CREATED:20220217T090035Z
LAST-MODIFIED:20220217T090232Z
UID:29760-1645488000-1645574399@cemed.ugr.es
SUMMARY:Jornadas Andaluzas de Comunicación Científica
DESCRIPTION:Las Jornadas Andaluzas de Comunicación Científicas (por sus siglas JACC) están formadas por una serie de eventos realizados presencialmente en diferentes capitales andaluzas y de forma telemática. \nEstas tendrán lugar la última semana de febrero y las primeras semanas de marzo en Sevilla\, Granada y Almería. Además\, el formato híbrido permite que socios y socias puedan asistir a gran parte de los eventos estén dónde estén. \nMás información en la Asociación de Biotecnólogos de Andalucía
URL:https://cemed.ugr.es/curso/22cl02/
CATEGORIES:Jornadas
ATTACH;FMTTYPE=image/png:https://cemed.ugr.es/wp-content/uploads/2022/02/45bf35dde8e73a55f977b68cffcead82.png
END:VEVENT
END:VCALENDAR